BEGIN:VCALENDAR
VERSION:2.0
PRODID:-//BSV - Badminton Sport Verein Gelsenkirchen 1959 e.V. - ECPv6.0.2//NONSGML v1.0//EN
CALSCALE:GREGORIAN
METHOD:PUBLISH
X-WR-CALNAME:BSV - Badminton Sport Verein Gelsenkirchen 1959 e.V.
X-ORIGINAL-URL:https://www.bsv-ge.de
X-WR-CALDESC:Events for BSV - Badminton Sport Verein Gelsenkirchen 1959 e.V.
REFRESH-INTERVAL;VALUE=DURATION:PT1H
X-Robots-Tag:noindex
X-PUBLISHED-TTL:PT1H
BEGIN:VTIMEZONE
TZID:Europe/Berlin
BEGIN:DAYLIGHT
TZOFFSETFROM:+0100
TZOFFSETTO:+0200
TZNAME:CEST
DTSTART:20160327T010000
END:DAYLIGHT
BEGIN:STANDARD
TZOFFSETFROM:+0200
TZOFFSETTO:+0100
TZNAME:CET
DTSTART:20161030T010000
END:STANDARD
END:VTIMEZONE
BEGIN:VEVENT
DTSTART;TZID=Europe/Berlin:20160127T180000
DTEND;TZID=Europe/Berlin:20160127T200000
DTSTAMP:20260421T193527
CREATED:20160123T164151Z
LAST-MODIFIED:20160124T163845Z
UID:276-1453917600-1453924800@www.bsv-ge.de
SUMMARY:Oberstufenturnier
DESCRIPTION:Heute findet von 18-20 Uhr ein Oberstufenturnier statt. Wir erwarten ca. 25 Schüler der Gesamtschule Buer Mitte.
URL:https://www.bsv-ge.de/termine/oberstufenturnier/
LOCATION:Sporthalle Gerhart Hauptmann\, Mülbachstrasse\, 45891 Gelsenkirchen
ATTACH;FMTTYPE=image/jpeg:https://www.bsv-ge.de/wp-content/uploads/60005423.jpg
END:VEVENT
END:VCALENDAR